Workbook

Sheet Resumen
C1: Código: R02-P30 Revisión: 00 Fecha: día-mes-año | D1: Resumen de Ideas Kaizen
A3: No. | B3: Idea Kaizen | C3: Proceso que afecta | D3: Creador de la Idea | E3: Fecha de la Idea: | F3: Mes | G3: Fecha para implementar: | H3: Tema de Mejora | I3: Desperdicio que se reducirá o eliminará | J3: Cómo se llevará a cabo la Mejora | K3: Estatus
A4: 1 | F4: =IF(E4="","",MONTH(E4))
A5: 2 | F5: =IF(E5="","",MONTH(E5))
A6: 3 | F6: =IF(E6="","",MONTH(E6))
A7: 4 | F7: =IF(E7="","",MONTH(E7))
A8: 5 | F8: =IF(E8="","",MONTH(E8))
A9: 6 | F9: =IF(E9="","",MONTH(E9))
A10: 7 | F10: =IF(E10="","",MONTH(E10))
A11: 8 | F11: =IF(E11="","",MONTH(E11))
A12: 9 | F12: =IF(E12="","",MONTH(E12))
A13: 10 | F13: =IF(E13="","",MONTH(E13))
A14: 11 | F14: =IF(E14="","",MONTH(E14))
A15: 12 | F15: =IF(E15="","",MONTH(E15))
... A103: 100 | F103: =IF(E103="","",MONTH(E103))

Sheet Dashboard
B1: ESTADÍSTICAS DE IDEAS KAIZEN

Sheet Tablas de resultados
G1: 1 | H1: 2 | I1: 3 | J1: 4 | K1: 5 | L1: 6 | M1: 7 | N1: 8 | O1: 9 | P1: 10 | Q1: 11 | R1: 12
A2: POR PROCESO | D2: POR ESTATUS | G2: POR MES
A3: Comercialización | B3: =COUNTIF(Resumen!$C:$C,'Tablas de resultados'!A3) -> 0 | D3: Implementada | E3: =COUNTIF(Resumen!$K:$K,'Tablas de resultados'!D3) -> 0 | G3: Ene | H3: Feb | I3: Mar | J3: Abr | K3: May | L3: Jun | M3: Jul | N3: Ago | O3: Sep | P3: Oct | Q3: Nov | R3: Dic
A4: Producción | B4: =COUNTIF(Resumen!$C:$C,'Tablas de resultados'!A4) -> 0 | D4: Por implementar | E4: =COUNTIF(Resumen!$K:$K,'Tablas de resultados'!D4) -> 0 | G4: =COUNTIFS(Resumen!$F:$F,'Tablas de resultados'!G1) -> 0 | H4: =COUNTIFS(Resumen!$F:$F,'Tablas de resultados'!H1) -> 0 | I4: =COUNTIFS(Resumen!$F:$F,'Tablas de resultados'!I1) -> 0 | J4: =COUNTIFS(Resumen!$F:$F,'Tablas de resultados'!J1) -> 0 | K4: =COUNTIFS(Resumen!$F:$F,'Tablas de resultados'!K1) -> 0 | L4: =COUNTIFS(Resumen!$F:$F,'Tablas de resultados'!L1) -> 0 | M4: =COUNTIFS(Resumen!$F:$F,'Tablas de resultados'!M1) -> 0 | N4: =COUNTIFS(Resumen!$F:$F,'Tablas de resultados'!N1) -> 0 | ... R4: =COUNTIFS(Resumen!$F:$F,'Tablas de resultados'!R1) -> 0
A5: Administración | B5: =COUNTIF(Resumen!$C:$C,'Tablas de resultados'!A5) -> 0 | D5: No aplica | E5: =COUNTIF(Resumen!$K:$K,'Tablas de resultados'!D5) -> 0
A6: Calidad | B6: =COUNTIF(Resumen!$C:$C,'Tablas de resultados'!A6) -> 0 | D6: No evaluada | E6: =COUNTIF(Resumen!$K:$K,'Tablas de resultados'!D6) -> 0
A7: RRHH | B7: =COUNTIF(Resumen!$C:$C,'Tablas de resultados'!A7) -> 0 | D7: Pendiente | E7: =COUNTIF(Resumen!$K:$K,'Tablas de resultados'!D7) -> 0
A8: Mantenimiento | B8: =COUNTIF(Resumen!$C:$C,'Tablas de resultados'!A8) -> 0
A10: TEMA DE MEJORA | D10: POR DESPERDICIO
A11: Calidad | B11: =COUNTIF(Resumen!$H:$H,'Tablas de resultados'!A11) -> 0 | D11: Defectos | E11: =COUNTIF(Resumen!$I:$I,'Tablas de resultados'!D11) -> 0
A12: Productividad | B12: =COUNTIF(Resumen!$H:$H,'Tablas de resultados'!A12) -> 0 | D12: Sobreproceso | E12: =COUNTIF(Resumen!$I:$I,'Tablas de resultados'!D12) -> 0
A13: Tiempo de entrega | B13: =COUNTIF(Resumen!$H:$H,'Tablas de resultados'!A13) -> 0 | D13: Sobreproducción | E13: =COUNTIF(Resumen!$I:$I,'Tablas de resultados'!D13) -> 0
A14: Costos | B14: =COUNTIF(Resumen!$H:$H,'Tablas de resultados'!A14) -> 0 | D14: Inventario | E14: =COUNTIF(Resumen!$I:$I,'Tablas de resultados'!D14) -> 0
A15: Satisfacción del Cliente | B15: =COUNTIF(Resumen!$H:$H,'Tablas de resultados'!A15) -> 0 | D15: Movimiento | E15: =COUNTIF(Resumen!$I:$I,'Tablas de resultados'!D15) -> 0
A16: Seguridad | B16: =COUNTIF(Resumen!$H:$H,'Tablas de resultados'!A16) -> 0 | D16: Transporte | E16: =COUNTIF(Resumen!$I:$I,'Tablas de resultados'!D16) -> 0
A17: Ambiental | B17: =COUNTIF(Resumen!$H:$H,'Tablas de resultados'!A17) -> 0 | D17: Espera | E17: =COUNTIF(Resumen!$I:$I,'Tablas de resultados'!D17) -> 0
A18: Otros | B18: =COUNTIF(Resumen!$H:$H,'Tablas de resultados'!A18) -> 0
