Workbook

Sheet Programa de capacitación
A1: PROGRAMA DE CAPACITACIÓN AÑO 2026
A2: Datos generales de la capacitación | F2: Programa Capacitación | H2: Personal programado | K2: Indicador Cumplimiento | L2: Evaluación de la capacitación Indicador Efectividad (un mes después de la capacitación)
A3: Nombre de la capacitación otorgada | B3: Total de horas por participante | C3: Curso (Externo /Interno) | D3: Nombre del Instructor | E3: RECURSOS: Costo del evento de capacitación por participante | F3: Mes programado | G3: Mes realizado | H3: Puesto | I3: Nombre | J3: ¿Asistió? SI / NO | K3: % Cumplimiento Programa Capacitación | L3: Medible que confirmará la efectividad de la capacitación | M3: La persona participante cumplió los objetivos? SI / NO | N3: % de evaluación efectiva
A4: Liderazgo | B4: 5 | C4: Externo | D4: Juan Pérez (Consultoría "X") | E4: 1000 | F4: ene | G4: ene | H4: Supervisor de producción | I4: Salvador Vázquez | J4: SI | K4: =IF(J4="","",IF(J4="si",100%,0%)) -> 1 | L4: % Rotación del área | M4: NO | N4: =IF(M4="","",IF(M4="N/A","N/A",IF(M4="si",100%,0%))) -> 0
A5: Liderazgo | B5: 5 | C5: Externo | D5: Juan Pérez (Consultoría "X") | E5: 1000 | F5: ene | G5: ene | H5: Supervisor de calidad | I5: Ana Lara | J5: NO | K5: =IF(J5="","",IF(J5="si",100%,0%)) -> 0 | L5: N/A | M5: N/A | N5: =IF(M5="","",IF(M5="N/A","N/A",IF(M5="si",100%,0%))) -> N/A
A6: Liderazgo | B6: 5 | C6: Externo | D6: Juan Pérez (Consultoría "X") | E6: 1000 | F6: ene | G6: ene | H6: Supervisor de almacén | I6: Samuel Hdz. | J6: SI | K6: =IF(J6="","",IF(J6="si",100%,0%)) -> 1 | L6: % Rotación del área | M6: SI | N6: =IF(M6="","",IF(M6="N/A","N/A",IF(M6="si",100%,0%))) -> 1
A7: Auditor interno ISO 9001 | B7: 20 | C7: Externo | D7: Juan Pérez (Consultoría "X") | E7: 5000 | F7: feb | G7: feb | H7: Encargado del Sistema de calidad | I7: Isabel Medina | J7: SI | K7: =IF(J7="","",IF(J7="si",100%,0%)) -> 1 | M7: SI | N7: =IF(M7="","",IF(M7="N/A","N/A",IF(M7="si",100%,0%))) -> 1
K8: =IF(J8="","",IF(J8="si",100%,0%)) | N8: =IF(M8="","",IF(M8="si",100%,0%))
K9: =IF(J9="","",IF(J9="si",100%,0%)) | N9: =IF(M9="","",IF(M9="si",100%,0%))
K10: =IF(J10="","",IF(J10="si",100%,0%)) | N10: =IF(M10="","",IF(M10="si",100%,0%))
K11: =IF(J11="","",IF(J11="si",100%,0%)) | N11: =IF(M11="","",IF(M11="si",100%,0%))
K12: =IF(J12="","",IF(J12="si",100%,0%)) | N12: =IF(M12="","",IF(M12="si",100%,0%))
K13: =IF(J13="","",IF(J13="si",100%,0%)) | N13: =IF(M13="","",IF(M13="si",100%,0%))
K14: =IF(J14="","",IF(J14="si",100%,0%)) | N14: =IF(M14="","",IF(M14="si",100%,0%))
K15: =IF(J15="","",IF(J15="si",100%,0%)) | N15: =IF(M15="","",IF(M15="si",100%,0%))
K16: =IF(J16="","",IF(J16="si",100%,0%)) | N16: =IF(M16="","",IF(M16="si",100%,0%))
K17: =IF(J17="","",IF(J17="si",100%,0%)) | N17: =IF(M17="","",IF(M17="si",100%,0%))
K18: =IF(J18="","",IF(J18="si",100%,0%)) | N18: =IF(M18="","",IF(M18="si",100%,0%))
K19: =IF(J19="","",IF(J19="si",100%,0%)) | N19: =IF(M19="","",IF(M19="si",100%,0%))
... K50: =IF(J50="","",IF(J50="si",100%,0%)) | N50: =IF(M50="","",IF(M50="si",100%,0%))

Sheet Dashboard
B1: Resultados de capacitación 2026
B3: Cumplimiento | F3: Efectividad | J3: Costo
B4: =Resultados!N3 -> 0.75 | F4: =Resultados!N4 -> 0.66666667 | J4: =Resultados!N7 -> 8000
B10: Participantes | F10: Horas
B11: =Resultados!N5 -> 3 | F11: =Resultados!N6 -> 30

Sheet Resultados
A1: Resultados de capacitación año 2026
B2: ene | C2: feb | D2: mar | E2: abr | F2: may | G2: jun | H2: jul | I2: ago | J2: sep | K2: oct | L2: nov | M2: dic | N2: Total
A3: % de cumplimiento de la capacitación | B3: =IFERROR(AVERAGEIFS('Programa de capacitación'!$K4:$K50,'Programa de capacitación'!$F4:$F50,Resultados!B$2),"") -> 0.66666667 | C3: =IFERROR(AVERAGEIFS('Programa de capacitación'!$K4:$K50,'Programa de capacitación'!$F4:$F50,Resultados!C$2),"") -> 1 | D3: =IFERROR(AVERAGEIFS('Programa de capacitación'!$K4:$K50,'Programa de capacitación'!$F4:$F50,Resultados!D$2),"") | E3: =IFERROR(AVERAGEIFS('Programa de capacitación'!$K4:$K50,'Programa de capacitación'!$F4:$F50,Resultados!E$2),"") | F3: =IFERROR(AVERAGEIFS('Programa de capacitación'!$K4:$K50,'Programa de capacitación'!$F4:$F50,Resultados!F$2),"") | G3: =IFERROR(AVERAGEIFS('Programa de capacitación'!$K4:$K50,'Programa de capacitación'!$F4:$F50,Resultados!G$2),"") | H3: =IFERROR(AVERAGEIFS('Programa de capacitación'!$K4:$K50,'Programa de capacitación'!$F4:$F50,Resultados!H$2),"") | I3: =IFERROR(AVERAGEIFS('Programa de capacitación'!$K4:$K50,'Programa de capacitación'!$F4:$F50,Resultados!I$2),"") | ... M3: =IFERROR(AVERAGEIFS('Programa de capacitación'!$K4:$K50,'Programa de capacitación'!$F4:$F50,Resultados!M$2),"") | N3: =AVERAGE('Programa de capacitación'!K4:K50) -> 0.75
A4: % efectividad de la capacitación | B4: =IFERROR(AVERAGEIFS('Programa de capacitación'!$N4:$N50,'Programa de capacitación'!$G4:$G50,Resultados!B$2),"") -> 0.5 | C4: =IFERROR(AVERAGEIFS('Programa de capacitación'!$N4:$N50,'Programa de capacitación'!$G4:$G50,Resultados!C$2),"") -> 1 | D4: =IFERROR(AVERAGEIFS('Programa de capacitación'!$N4:$N50,'Programa de capacitación'!$G4:$G50,Resultados!D$2),"") | E4: =IFERROR(AVERAGEIFS('Programa de capacitación'!$N4:$N50,'Programa de capacitación'!$G4:$G50,Resultados!E$2),"") | F4: =IFERROR(AVERAGEIFS('Programa de capacitación'!$N4:$N50,'Programa de capacitación'!$G4:$G50,Resultados!F$2),"") | G4: =IFERROR(AVERAGEIFS('Programa de capacitación'!$N4:$N50,'Programa de capacitación'!$G4:$G50,Resultados!G$2),"") | H4: =IFERROR(AVERAGEIFS('Programa de capacitación'!$N4:$N50,'Programa de capacitación'!$G4:$G50,Resultados!H$2),"") | I4: =IFERROR(AVERAGEIFS('Programa de capacitación'!$N4:$N50,'Programa de capacitación'!$G4:$G50,Resultados!I$2),"") | ... M4: =IFERROR(AVERAGEIFS('Programa de capacitación'!$N4:$N50,'Programa de capacitación'!$G4:$G50,Resultados!M$2),"") | N4: =AVERAGE('Programa de capacitación'!N4:N50) -> 0.66666667
A5: Participantes | B5: =COUNTIFS('Programa de capacitación'!$J4:$J50,Resultados!$A$8,'Programa de capacitación'!$F4:$F50,Resultados!B$2) -> 2 | C5: =COUNTIFS('Programa de capacitación'!$J4:$J50,Resultados!$A$8,'Programa de capacitación'!$F4:$F50,Resultados!C$2) -> 1 | D5: =COUNTIFS('Programa de capacitación'!$J4:$J50,Resultados!$A$8,'Programa de capacitación'!$F4:$F50,Resultados!D$2) -> 0 | E5: =COUNTIFS('Programa de capacitación'!$J4:$J50,Resultados!$A$8,'Programa de capacitación'!$F4:$F50,Resultados!E$2) -> 0 | F5: =COUNTIFS('Programa de capacitación'!$J4:$J50,Resultados!$A$8,'Programa de capacitación'!$F4:$F50,Resultados!F$2) -> 0 | G5: =COUNTIFS('Programa de capacitación'!$J4:$J50,Resultados!$A$8,'Programa de capacitación'!$F4:$F50,Resultados!G$2) -> 0 | H5: =COUNTIFS('Programa de capacitación'!$J4:$J50,Resultados!$A$8,'Programa de capacitación'!$F4:$F50,Resultados!H$2) -> 0 | I5: =COUNTIFS('Programa de capacitación'!$J4:$J50,Resultados!$A$8,'Programa de capacitación'!$F4:$F50,Resultados!I$2) -> 0 | ... M5: =COUNTIFS('Programa de capacitación'!$J4:$J50,Resultados!$A$8,'Programa de capacitación'!$F4:$F50,Resultados!M$2) -> 0 | N5: =SUM(B5:M5) -> 3
A6: Horas | B6: =SUMIFS('Programa de capacitación'!$B4:$B50,'Programa de capacitación'!$G4:$G50,Resultados!B$2,'Programa de capacitación'!$J4:$J50,Resultados!$A$8) -> 10 | C6: =SUMIFS('Programa de capacitación'!$B4:$B50,'Programa de capacitación'!$G4:$G50,Resultados!C$2,'Programa de capacitación'!$J4:$J50,Resultados!$A$8) -> 20 | D6: =SUMIFS('Programa de capacitación'!$B4:$B50,'Programa de capacitación'!$G4:$G50,Resultados!D$2,'Programa de capacitación'!$J4:$J50,Resultados!$A$8) -> 0 | E6: =SUMIFS('Programa de capacitación'!$B4:$B50,'Programa de capacitación'!$G4:$G50,Resultados!E$2,'Programa de capacitación'!$J4:$J50,Resultados!$A$8) -> 0 | F6: =SUMIFS('Programa de capacitación'!$B4:$B50,'Programa de capacitación'!$G4:$G50,Resultados!F$2,'Programa de capacitación'!$J4:$J50,Resultados!$A$8) -> 0 | G6: =SUMIFS('Programa de capacitación'!$B4:$B50,'Programa de capacitación'!$G4:$G50,Resultados!G$2,'Programa de capacitación'!$J4:$J50,Resultados!$A$8) -> 0 | H6: =SUMIFS('Programa de capacitación'!$B4:$B50,'Programa de capacitación'!$G4:$G50,Resultados!H$2,'Programa de capacitación'!$J4:$J50,Resultados!$A$8) -> 0 | I6: =SUMIFS('Programa de capacitación'!$B4:$B50,'Programa de capacitación'!$G4:$G50,Resultados!I$2,'Programa de capacitación'!$J4:$J50,Resultados!$A$8) -> 0 | ... M6: =SUMIFS('Programa de capacitación'!$B4:$B50,'Programa de capacitación'!$G4:$G50,Resultados!M$2,'Programa de capacitación'!$J4:$J50,Resultados!$A$8) -> 0 | N6: =SUM(B6:M6) -> 30
A7: Costo | B7: =SUMIFS('Programa de capacitación'!$E4:$E50,'Programa de capacitación'!$G4:$G50,Resultados!B$2) -> 3000 | C7: =SUMIFS('Programa de capacitación'!$E4:$E50,'Programa de capacitación'!$G4:$G50,Resultados!C$2) -> 5000 | D7: =SUMIFS('Programa de capacitación'!$E4:$E50,'Programa de capacitación'!$G4:$G50,Resultados!D$2) -> 0 | E7: =SUMIFS('Programa de capacitación'!$E4:$E50,'Programa de capacitación'!$G4:$G50,Resultados!E$2) -> 0 | F7: =SUMIFS('Programa de capacitación'!$E4:$E50,'Programa de capacitación'!$G4:$G50,Resultados!F$2) -> 0 | G7: =SUMIFS('Programa de capacitación'!$E4:$E50,'Programa de capacitación'!$G4:$G50,Resultados!G$2) -> 0 | H7: =SUMIFS('Programa de capacitación'!$E4:$E50,'Programa de capacitación'!$G4:$G50,Resultados!H$2) -> 0 | I7: =SUMIFS('Programa de capacitación'!$E4:$E50,'Programa de capacitación'!$G4:$G50,Resultados!I$2) -> 0 | ... M7: =SUMIFS('Programa de capacitación'!$E4:$E50,'Programa de capacitación'!$G4:$G50,Resultados!M$2) -> 0 | N7: =SUM('Programa de capacitación'!E4:E50) -> 8000
A8: SI
